BEGIN:VCALENDAR
PRODID:-//eluceo/ical//2.0/EN
VERSION:2.0
CALSCALE:GREGORIAN
BEGIN:VEVENT
UID:event-23
DTSTAMP:20260419T121600Z
SUMMARY:Franse les met de FANF\, nieuwe cycli tot juni 2026
DESCRIPTION:Ook in dit seizoen worden door de FANF lessen Frans voor gebrui
 k in de privésfeer aangeboden. Van de noodzaak de Franse taal in Frankrij
 k te beheersen hoeven we u niet te overtuigen. Sinds 4 jaar werkt de FANF 
 naar volle tevredenheid samen met het docentenduo Anderske Luijk en Célin
 e Méaume\; twee gekwalificeerde en ervaren docenten die tegen zeer aantre
 kkelijke tarieven Franse taalcursussen verzorgen. Zij doen dit digitaal in
  kleine groepslessen van 2-4 cursisten of tijdens privélessen. Groepsles:
  tarief per cyclus van 12 lessen (18 lesuren): 396 € pp* De lessen worde
 n gegeven tijdens een cyclus van 12 lessen met een tijdsduur van 1½ uur p
 er les\, over een periode van 3 maanden\, in groepjes van 2-4 deelnemers e
 n tegen een tarief van 22€/lesuur. Een kleine groep garandeert dat de d
 ocent persoonlijk aandacht aan elke deelnemer kan geven maar tegelijkertij
 d leert u ook van de andere deelnemers.  Een cyclus van 18 uur gedurende 
 drie maanden is de optimale tijdsduur om zoveel mogelijk te leren\, te oef
 enen én te onthouden. Doel De lessen hebben als doel de Franse taal te be
 grijpen en te leren spreken (grammatica\, woordenschat) zodat u na het vol
 gen van deze lessen actief deel kunt nemen aan het Franse maatschappelijk 
 leven\, zoals iets bestellen op de markt (een terras\, in een winkel)\,
  met de buren een praatje maken\, de krant lezen\, Franse TV-programma
 ’s volgen\, etc... De lessen worden verzorgd op 3 niveaus: Beginners (A1
 -A2) Beginners/Gevorderde beginners (A2-B1) Gevorderde beginners (B1-B2) A
 lternatief: privéles Daarnaast bestaat de mogelijkheid privélessen te ne
 men. Deze lessen worden gegeven op ieder niveau (incl. niveau C1 en C2) en
  de inhoud ervan kan indien gewenst met de docente worden afgestemd: welke
  onderwerpen\, welk aspect van de Franse taal\, ter voorbereiding van een 
 speciale gelegenheid\, etc... Het tarief voor privélessen is 40 €/lesu
 ur*  *De genoemde tarieven zijn voor leden van een bij de FANF aangeslote
 n vereniging of donateurs van de FANF. Indien u geen lid of donateur bent\
 , zijn de tarieven 10% hoger. De docenten Een Nederlandse docente Frans\, 
 Anderske Luijk (l)\, en een Franse docente Nederlands\, Céline Méaume (
 r). Anderske en Céline hebben beiden een onderwijsbevoegdheid Frans (HBO)
 . Anderske woont sinds 2012 In Frankrijk (Toulouse) en is oprichtster van 
 de vereniging/talenschool Praatje waar zij lessen Frans en Nederlands ve
 rzorgt. Zij is daarnaast verbonden als docente aan de Universiteit van Tou
 louse. Anderske is fulltime taaldocente en coördinatrice Onderwijs in het
  bestuur van de FANF. Céline\, woont eveneens in Toulouse en heeft aan 
 de Universiteit van Lille Nederlands gestudeerd. Daarna heeft ze in Nederl
 and 12 jaar Franse les gegeven voor privé- en professionele doeleinden en
  was verbonden aan verschillende onderwijsinstellingen. Sinds enige jaren 
 terug in Frankrijk\, is zij werkzaam als online freelance docente Frans.
  Wanneer worden de lessen in het cursusjaar 2025-2026 gegeven? De eerstvol
 gende cyclus voor de groepslessen is: van 15 september tot 19 december 202
 5. De daaropvolgende cycli zijn : - van 6 januari 2026 tot 3 april (12 le
 ssen/18 uur) -1 week zonder lessen- - van 20 april 2026 tot 19 juni (8 les
 sen/12 uur) -1 week zonder lessen- (voor deze periode bedragen de kosten 
 264 € pp). Verdere inlichtingen en aanmelden: Anderske Luijk: +33 (0)6 3
 3 80 61 44 of taalcentrumpraatje@gmail.com Na uw aanmelding neemt Andersk
 e contact met u op om samen met u het niveau van uw Franse taalvaardigheid
  vast te stellen voor o.a. een optimale groepsindeling.
DTSTART:20250914T220000Z
DTEND:20260619T220000Z
END:VEVENT
BEGIN:VTIMEZONE
TZID:UTC
BEGIN:STANDARD
DTSTART:20250914T220000
TZNAME:UTC
TZOFFSETTO:+0000
TZOFFSETFROM:+0000
END:STANDARD
END:VTIMEZONE
END:VCALENDAR
